BEGIN:VCALENDAR
VERSION:2.0
PRODID:-//wp-events-plugin.com//7.2.3.1//EN
TZID:Europe/Berlin
X-WR-TIMEZONE:Europe/Berlin
BEGIN:VEVENT
UID:11@vereinstour.saarland
DTSTART;TZID=Europe/Berlin:20230824T180000
DTEND;TZID=Europe/Berlin:20230824T193000
DTSTAMP:20230616T074007Z
URL:https://vereinstour.saarland/events/chatgpt-im-marketing/
SUMMARY:SMSS: ChatGPT im Marketing: Wie KI die Arbeit von Vereinen und Verb
 änden erleichtert
DESCRIPTION:\n\n\n\n\nKünstliche Intelligenz verbreitet sich derzeit immer
  mehr. Vor allem das Tool „ChatGPT“ = „Chatbot Generative Pre-traine
 d Transformer“\, ist derzeit in aller Munde. Bei dem Tool können die N
 utzer über Texteingabe mit dem Computer menschenähnlich kommunizieren. D
 er ChatBot lernt sogar von dieser Unterhaltung. Außerdem kann er Fragen b
 eantworten und komplexe Texte für beispielsweise Referate erfassen.\n\nIm
  Rahmen der Social Media Summer School findet am Donnerstag\, 24. August 
 2023 um 18.00 Uhr ein Online-Seminar mit Cindy Ebner\, Head of Paid Sea
 rch bei Kosch Klink Performance GmbH statt.\n\nDieses Seminar richtet sich
  an Marketing-Verantwortliche von Vereinen und Verbänden\, die ihr Market
 ing mit Hilfe von KI-basierten Tools auf das nächste Level heben möchten
 . Cindy Ebner zeigt\, wie ChatGPT\, eine generative KI\, bei der Erstellun
 g von Marketinginhalten für SEO\, SEA\, Social Media &amp\; Co. unterstü
 tzen kann. Außerdem werden die Vorteile von ChatGPT für kleine Unternehm
 en und Vereine sowie ein Ausblick auf die Zukunft von Künstlicher Intelli
 genz im Marketing diskutiert.\n\nDas Seminar findet im Rahmen der Social M
 edia Summer School und nur online via Zoom statt.\n\n\n\n\n\nhttps://uni
 onstiftung-de.zoom.us/j/85784729616\nMeeting-ID: 857 847 296 16\n\nIm Rahm
 en des Seminars haben Sie auch die Möglichkeit\, direkt Fragen an Cindy E
 bner zu stellen.\n\nWir freuen uns\, Sie Online begrüßen zu dürfen.\n\n
 &nbsp\;\n\nAnmeldung unter: https://www.unionstiftung.de/veranstaltungen/s
 mss-chatgpt-im-marketing/
ATTACH;FMTTYPE=image/jpeg:https://vereinstour.saarland/wp-content/uploads/
 2023/06/SMSS-ChatGPT-im-Marketing-Wie-KI-die-Arbeit-von-Vereinen-und-Verba
 enden-erleichtert.jpg
CATEGORIES:Social Media Summer School
LOCATION:https://unionstiftung-de.zoom.us/j/85784729616
END:VEVENT
BEGIN:VTIMEZONE
TZID:Europe/Berlin
X-LIC-LOCATION:Europe/Berlin
BEGIN:DAYLIGHT
DTSTART:20230326T030000
TZOFFSETFROM:+0100
TZOFFSETTO:+0200
TZNAME:CEST
END:DAYLIGHT
END:VTIMEZONE
END:VCALENDAR