BEGIN:VCALENDAR
VERSION:2.0
PRODID:-//wp-events-plugin.com//7.2.3.1//EN
TZID:Europe/Berlin
X-WR-TIMEZONE:Europe/Berlin
BEGIN:VEVENT
UID:56@vereinstour.saarland
DTSTART;TZID=Europe/Berlin:20250123T180000
DTEND;TZID=Europe/Berlin:20250123T200000
DTSTAMP:20241114T151029Z
URL:https://vereinstour.saarland/events/dein-verein-auf-tiktok/
SUMMARY:Dein Verein auf TikTok
DESCRIPTION:Social Media Winter School: Dein Verein auf TikTok. Kostenloses
  Online-Seminar im Rahmen der Vereinstour mit den TikTok-Influencern Dima 
 &amp\; Colin (kaskyyontherun) am Donnerstag\, 23. Januar um 18.00 Uhr.\n\n
 TikTok ist eine rasant wachsende Social-Media-Plattform\, die es Nutzern e
 rmöglicht\, kreative Kurzvideos zu erstellen und zu teilen. Weit mehr als
  eine App für Jugendliche\, erreicht TikTok fast 20 Millionen Menschen al
 lein in Deutschland und bietet damit Vereinen enormes Potenzial für Reich
 weite und Engagement. In diesem Seminar erfährst du\, wie TikTok funktion
 iert und wie du es erfolgreich für die Vereinsarbeit nutzen kannst.\n\nIn
 halte des Seminars:\n\n 	Einführung in die Plattform: Überblick über di
 e TikTok-Oberfläche und aktuelle Bedeutung von Social Media – sowohl ge
 sellschaftlich als auch für Vereine.\n 	Neue Rolle von Social Media für 
 Vereine: Nutzung der For You Page.\n 	Funktionsweise des TikTok-Algorithmu
 s und Bedeutung von Interaktionen.\n 	Erfolgsrezepte: Welche Inhalte funkt
 ionieren besonders gut und wie schneidet TikTok im Vergleich zu anderen Pl
 attformen ab?\n 	Praxisbeispiele: Analysiere erfolgreiche TikTok-Strategie
 n für Vereine.\n\nReferenten: Dima und Colin\, bekannte TikTok-Influencer
  aus Saarbrücken\, die mit ihrem Account „kaskyyontherun“ schnell zu 
 Internet-Stars wurden. Ihre Videos wurden über eine Million Mal geliked u
 nd haben über 17 Millionen Aufrufe erzielt. Sie bringen praxisnahe Tipps 
 und ihre eigene Erfahrung direkt zu dir.\n\nDatum: Donnerstag\, 23. Januar
  um 18.00 Uhr\nOrt: Online via Zoom Einwahllink\nWebinar-ID: 861 3259 335
 0\n\nUm vorherige Anmeldung wird gebeten.\n\nWeitere Seminare findest Du h
 ier: Veranstaltungen der Union Stiftung\nMehr zur Vereinstour Saarland: 
 Vereinstour Saarland\n\nDir gefällt dieses Angebot? Dann teile das Semina
 r mit Deinen Freunden auf WhatsApp!
ATTACH;FMTTYPE=image/jpeg:https://vereinstour.saarland/wp-content/uploads/
 2024/11/6.png
CATEGORIES:Social Media Winter School
END:VEVENT
BEGIN:VTIMEZONE
TZID:Europe/Berlin
X-LIC-LOCATION:Europe/Berlin
BEGIN:STANDARD
DTSTART:20241027T020000
TZOFFSETFROM:+0200
TZOFFSETTO:+0100
TZNAME:CET
END:STANDARD
END:VTIMEZONE
END:VCALENDAR