BEGIN:VCALENDAR
VERSION:2.0
PRODID:-//wp-events-plugin.com//7.2.3.1//EN
TZID:Europe/Berlin
X-WR-TIMEZONE:Europe/Berlin
BEGIN:VEVENT
UID:84@vereinstour.saarland
DTSTART;TZID=Europe/Berlin:20251029T180000
DTEND;TZID=Europe/Berlin:20251029T200000
DTSTAMP:20251028T150413Z
URL:https://vereinstour.saarland/events/die-moderne-satzung-des-vereins-be
 xbach/
SUMMARY:Die moderne Satzung des Vereins - Bexbach
DESCRIPTION:Seminar zur modernen Vereinssatzung am 29.10.2025 in Bexbach mi
 t RA Patrick Nessler – jetzt kostenlos teilnehmen!
ATTACH;FMTTYPE=image/jpeg:https://vereinstour.saarland/wp-content/uploads/
 2025/07/Grafiken-Vereinstour-Website-Events-11.png
CATEGORIES:Vereinstour
LOCATION:Kulturbahnhof Bexbach\, Bahnhofstraße 40\, 66450 Bexbach\, Deutsc
 hland
X-APPLE-STRUCTURED-LOCATION;VALUE=URI;X-ADDRESS=Bahnhofstraße 40\, 66450 B
 exbach\, Deutschland;X-APPLE-RADIUS=100;X-TITLE=Kulturbahnhof Bexbach:geo:
 0,0
END:VEVENT
BEGIN:VTIMEZONE
TZID:Europe/Berlin
X-LIC-LOCATION:Europe/Berlin
BEGIN:STANDARD
DTSTART:20251026T020000
TZOFFSETFROM:+0200
TZOFFSETTO:+0100
TZNAME:CET
END:STANDARD
END:VTIMEZONE
END:VCALENDAR