BEGIN:VCALENDAR
VERSION:2.0
PRODID:-//wp-events-plugin.com//7.2.3.1//EN
TZID:Europe/Berlin
X-WR-TIMEZONE:Europe/Berlin
BEGIN:VEVENT
UID:83@vereinstour.saarland
DTSTART;TZID=Europe/Berlin:20251014T180000
DTEND;TZID=Europe/Berlin:20251014T200000
DTSTAMP:20250930T073019Z
URL:https://vereinstour.saarland/events/die-vereinstour-macht-halt-in-wade
 rn-wie-kuenstliche-intelligenz-vereine-veraendert/
SUMMARY:KI für Vereine - Wadern
DESCRIPTION:KI im Verein? Am 14.10. zeigt Tobias Scheid in Wadern\, wie Kü
 nstliche Intelligenz Deine Vereinsarbeit erleichtert.
ATTACH;FMTTYPE=image/jpeg:https://vereinstour.saarland/wp-content/uploads/
 2025/06/Grafiken-Vereinstour-Website-Events-10.png
CATEGORIES:Vereinstour
LOCATION:Herbert-Klein-Halle\, Franz-Haas-Straße\, Wadern\, 66687\, Deutsc
 hland
GEO:49.541328;6.89265
X-APPLE-STRUCTURED-LOCATION;VALUE=URI;X-ADDRESS=Franz-Haas-Straße\, Wadern
 \, 66687\, Deutschland;X-APPLE-RADIUS=100;X-TITLE=Herbert-Klein-Halle:geo:
 49.541328,6.89265
END:VEVENT
BEGIN:VTIMEZONE
TZID:Europe/Berlin
X-LIC-LOCATION:Europe/Berlin
BEGIN:DAYLIGHT
DTSTART:20250330T030000
TZOFFSETFROM:+0100
TZOFFSETTO:+0200
TZNAME:CEST
END:DAYLIGHT
END:VTIMEZONE
END:VCALENDAR