BEGIN:VCALENDAR
VERSION:2.0
PRODID:-//wp-events-plugin.com//7.2.3.1//EN
TZID:Europe/Berlin
X-WR-TIMEZONE:Europe/Berlin
BEGIN:VEVENT
UID:90@vereinstour.saarland
DTSTART;TZID=Europe/Berlin:20260119T180000
DTEND;TZID=Europe/Berlin:20260119T200000
DTSTAMP:20250925T113313Z
URL:https://vereinstour.saarland/events/foto-und-videografie-mit-dem-smart
 phone/
SUMMARY:Foto- und Videografie mit dem Smartphone
DESCRIPTION:Gute Vereinsfotos und Videos müssen nicht teuer sein! In diese
 m Online-Seminar zeigt Dir Daniel Leismann\, wie Du mit dem Smartphone pro
 fessionelle Bilder und Videos für Social Media\, Website und Vereinsarbei
 t erstellst.
ATTACH;FMTTYPE=image/jpeg:https://vereinstour.saarland/wp-content/uploads/
 2025/09/Grafiken-Vereinstour-Website-Events-22.png
CATEGORIES:Social Media Winter School
LOCATION:https://unionstiftung-de.zoom.us/j/81868676436
END:VEVENT
BEGIN:VTIMEZONE
TZID:Europe/Berlin
X-LIC-LOCATION:Europe/Berlin
BEGIN:STANDARD
DTSTART:20251026T020000
TZOFFSETFROM:+0200
TZOFFSETTO:+0100
TZNAME:CET
END:STANDARD
END:VTIMEZONE
END:VCALENDAR