BEGIN:VCALENDAR
VERSION:2.0
PRODID:-//wp-events-plugin.com//7.2.3.1//EN
TZID:Europe/Berlin
X-WR-TIMEZONE:Europe/Berlin
BEGIN:VEVENT
UID:88@vereinstour.saarland
DTSTART;TZID=Europe/Berlin:20260108T180000
DTEND;TZID=Europe/Berlin:20260108T200000
DTSTAMP:20250925T102759Z
URL:https://vereinstour.saarland/events/ki-verstehen-nutzen/
SUMMARY:KI verstehen & nutzen
DESCRIPTION:Künstliche Intelligenz ist längst kein Zukunftsthema mehr –
  auch Vereine können davon profitieren. In diesem Online-Seminar zeigt Di
 r KI-Experte Tobias Scheid praxisnah\, wie smarte Tools Deinen Vereinsallt
 ag erleichtern und Prozesse vereinfachen können.
ATTACH;FMTTYPE=image/jpeg:https://vereinstour.saarland/wp-content/uploads/
 2025/09/Grafiken-Vereinstour-Website-Events-15.png
CATEGORIES:Social Media Winter School
LOCATION:https://unionstiftung-de.zoom.us/j/81868676436
END:VEVENT
BEGIN:VTIMEZONE
TZID:Europe/Berlin
X-LIC-LOCATION:Europe/Berlin
BEGIN:STANDARD
DTSTART:20251026T020000
TZOFFSETFROM:+0200
TZOFFSETTO:+0100
TZNAME:CET
END:STANDARD
END:VTIMEZONE
END:VCALENDAR