BEGIN:VCALENDAR
VERSION:2.0
PRODID:-//wp-events-plugin.com//7.2.3.1//EN
TZID:Europe/Berlin
X-WR-TIMEZONE:Europe/Berlin
BEGIN:VEVENT
UID:82@vereinstour.saarland
DTSTART;TZID=Europe/Berlin:20250812T180000
DTEND;TZID=Europe/Berlin:20250812T200000
DTSTAMP:20250519T092333Z
URL:https://vereinstour.saarland/events/smss-ki-fuer-vereine/
SUMMARY:SMSS: KI für Vereine
DESCRIPTION:Wie kann Künstliche Intelligenz Vereine entlasten? Im kostenlo
 sen Online-Seminar zeigt Dir Tobias Scheid\, wie Du ChatGPT in der Vereins
 kommunikation und Organisation gezielt einsetzt – von Texten über Reden
  bis hin zur Projektplanung\, ganz ohne Technik-Vorkenntnisse.
ATTACH;FMTTYPE=image/jpeg:https://vereinstour.saarland/wp-content/uploads/
 2025/05/Grafiken-Vereinstour-Website-Events-8.png
CATEGORIES:Social Media Summer School
LOCATION:https://unionstiftung-de.zoom.us/j/85156879953
END:VEVENT
BEGIN:VTIMEZONE
TZID:Europe/Berlin
X-LIC-LOCATION:Europe/Berlin
BEGIN:DAYLIGHT
DTSTART:20250330T030000
TZOFFSETFROM:+0100
TZOFFSETTO:+0200
TZNAME:CEST
END:DAYLIGHT
END:VTIMEZONE
END:VCALENDAR