BEGIN:VCALENDAR
VERSION:2.0
PRODID:-//wp-events-plugin.com//7.2.3.1//EN
TZID:Europe/Berlin
X-WR-TIMEZONE:Europe/Berlin
BEGIN:VEVENT
UID:91@vereinstour.saarland
DTSTART;TZID=Europe/Berlin:20250122T180000
DTEND;TZID=Europe/Berlin:20250122T200000
DTSTAMP:20250925T112240Z
URL:https://vereinstour.saarland/events/social-media-kanaele-strukturieren
 /
SUMMARY:Social Media Kanäle strukturieren
DESCRIPTION:Ordnung in Deinen Social-Media-Kanälen spart Zeit und macht De
 inen Verein professioneller. Social-Media-Expertin Aurélie Freis zeigt Di
 r\, wie Du Instagram-Highlights\, angepinnte Beiträge\, LinkedIn-Beschrei
 bungen & Co. clever strukturierst.
ATTACH;FMTTYPE=image/jpeg:https://vereinstour.saarland/wp-content/uploads/
 2025/09/Grafiken-Vereinstour-Website-Events-19.png
CATEGORIES:Social Media Winter School
LOCATION:https://unionstiftung-de.zoom.us/j/81868676436
END:VEVENT
BEGIN:VTIMEZONE
TZID:Europe/Berlin
X-LIC-LOCATION:Europe/Berlin
BEGIN:STANDARD
DTSTART:20241027T020000
TZOFFSETFROM:+0200
TZOFFSETTO:+0100
TZNAME:CET
END:STANDARD
END:VTIMEZONE
END:VCALENDAR